BEGIN:VCALENDAR
VERSION:2.0
PRODID:-//Tukios.com/
BEGIN:VEVENT
UID:ea710919-072d-4ee0-b99b-3ca5889bdf6a@www.farrell-ryan.com
DTSTAMP:20260419T215445Z
DTSTART:20260422T190000Z
DTEND:20260422T230000Z
SUMMARY:Visitation
DESCRIPTION:
URL:https://www.farrell-ryan.com/obituaries/edward-demetsenaere
LOCATION: 777 Long Pond Rd  Rochester NY 14612
GEO:43.2463546;-77.6973129
END:VEVENT
END:VCALENDAR