BEGIN:VCALENDAR
VERSION:2.0
PRODID:-//Tukios.com/
BEGIN:VEVENT
UID:7829d840-144c-4f74-b77a-374ae6f51dc5@www.farrell-ryan.com
DTSTAMP:20260419T214850Z
DTSTART:20260423T150000Z
DTEND:20260423T153000Z
SUMMARY:Funeral Service
DESCRIPTION:
URL:https://www.farrell-ryan.com/obituaries/edward-demetsenaere
LOCATION: 777 Long Pond Rd  Rochester NY 14612
GEO:43.2463546;-77.6973129
END:VEVENT
END:VCALENDAR