BEGIN:VCALENDAR
VERSION:2.0
PRODID:-//Tukios.com/
BEGIN:VEVENT
UID:4ca0231a-488b-4ccf-8530-d0e2fcfc2c8b@www.farrell-ryan.com
DTSTAMP:20260424T200431Z
DTSTART:20260425T170000Z
DTEND:20260425T180000Z
SUMMARY:Interment
DESCRIPTION:
URL:https://www.farrell-ryan.com/obituaries/helen-boldewskul
LOCATION: 1407 Robinson Road  Jordanville NY 13361
GEO:42.9271951;-74.9345147
END:VEVENT
END:VCALENDAR