BEGIN:VCALENDAR
VERSION:2.0
PRODID:-//Tukios.com/
BEGIN:VEVENT
UID:3dc29b7c-ee6b-4d92-9ffd-48b8a14ffaa2@www.farrell-ryan.com
DTSTAMP:20260422T214930Z
DTSTART:20260424T200000Z
DTEND:20260424T220000Z
SUMMARY:Visitation
DESCRIPTION:
URL:https://www.farrell-ryan.com/obituaries/mark-smith
LOCATION: 777 Long Pond Road  Rochester NY 14612
GEO:43.2463546;-77.6973129
END:VEVENT
END:VCALENDAR