BEGIN:VCALENDAR
VERSION:2.0
PRODID:-//Tukios.com/
BEGIN:VEVENT
UID:f9c65e67-45b1-4f32-a95b-084a17cd0376@www.farrell-ryan.com
DTSTAMP:20260424T200639Z
DTSTART:20260427T170000Z
DTEND:20260427T180000Z
SUMMARY:Funeral Service
DESCRIPTION:
URL:https://www.farrell-ryan.com/obituaries/sofia-alvarado
LOCATION: 2650 Lake Avenue  Rochester NY 14612
GEO:43.2169162;-77.6290074
END:VEVENT
END:VCALENDAR