BEGIN:VCALENDAR
VERSION:2.0
PRODID:-//Tukios.com/
BEGIN:VEVENT
UID:9da426b2-e887-4d71-82cd-ec4734cd70d8@www.farrell-ryan.com
DTSTAMP:20260424T200516Z
DTSTART:20260427T150000Z
DTEND:20260427T170000Z
SUMMARY:Visitation
DESCRIPTION:
URL:https://www.farrell-ryan.com/obituaries/sofia-alvarado
LOCATION: 777 Long Pond Road  Rochester NY 14612
GEO:43.2463546;-77.6973129
END:VEVENT
END:VCALENDAR